BEGIN:VCALENDAR
VERSION:2.0
PRODID:-//FOCPS - ECPv6.15.17//NONSGML v1.0//EN
CALSCALE:GREGORIAN
METHOD:PUBLISH
X-WR-CALNAME:FOCPS
X-ORIGINAL-URL:https://foundationforocps.org
X-WR-CALDESC:Events for FOCPS
REFRESH-INTERVAL;VALUE=DURATION:PT1H
X-Robots-Tag:noindex
X-PUBLISHED-TTL:PT1H
BEGIN:VTIMEZONE
TZID:UTC
BEGIN:STANDARD
TZOFFSETFROM:+0000
TZOFFSETTO:+0000
TZNAME:UTC
DTSTART:20240101T000000
END:STANDARD
END:VTIMEZONE
BEGIN:VEVENT
DTSTART;TZID=UTC:20250909T100000
DTEND;TZID=UTC:20250909T110000
DTSTAMP:20260423T205433
CREATED:20250716T165503Z
LAST-MODIFIED:20250716T165507Z
UID:50659-1757412000-1757415600@foundationforocps.org
SUMMARY:Read2Succeed Volunteer Training
DESCRIPTION:Read2Succeed Volunteer Training\n\n\n\n\n\n\n\n\n\nRead2Succeed Training – Returning and New Volunteers \n\n\n\nOCPS Pine Hills Text Book Center/OCPS Pine Hills Transportation Services (former North Learning Community Office) \n\n\n\nBefore you attend training: \n\n\n\nSubmit ADDitions applicationView Read2Succeed first and second-grade Training Videos \n\n\n\nParking Information: \n\n\n\nGate will open 15 minutes prior to training time. \n\n\n\nTraveling southbound via Pine Hills Road\, watch for the gate opening on your right-hand side\, .3 miles from the intersection of Clarcona Ocoee Road \n\n\n\nTraveling northbound via Pine Hills Road\, watch for the gate opening on your left-hand side\, 2 miles from the intersection of Silver Star Road. \n\n\n\nAmple parking in the lot in front of the building. The training room is the last door on the north end of the building.
URL:https://foundationforocps.org/event/read2succeed-volunteer-training-35/
LOCATION:5146 North Pine Hills Rd.\, 5146 North Pine Hills Rd.\, Orlando\, Florida\, 32808\, United States
CATEGORIES:Read2Succeed
END:VEVENT
BEGIN:VEVENT
DTSTART;TZID=UTC:20250908T120000
DTEND;TZID=UTC:20250908T130000
DTSTAMP:20260423T205433
CREATED:20250825T192716Z
LAST-MODIFIED:20250826T155853Z
UID:50977-1757332800-1757336400@foundationforocps.org
SUMMARY:Read2Succeed Volunteer Training
DESCRIPTION:Read2Succeed Volunteer Training\n\n\n\n\n\n\n\n\n\nRead2Succeed Training – Returning and New Volunteers \n\n\n\nPanera Bread – 11472 University Blvd Orlando\, Fl 32817 \n\n\n\nBefore you attend training: \n\n\n\nSubmit ADDitions applicationView Read2Succeed first and second-grade Training Videos
URL:https://foundationforocps.org/event/read2succeed-volunteer-training-33/
LOCATION:11472 University Blvd Orlando\, Fl 32817\, 11472 University Blvd\, Orlando\, Florida\, 32817\, United States
CATEGORIES:Read2Succeed
END:VEVENT
BEGIN:VEVENT
DTSTART;TZID=UTC:20250902T100000
DTEND;TZID=UTC:20250902T110000
DTSTAMP:20260423T205433
CREATED:20250710T215037Z
LAST-MODIFIED:20250710T215039Z
UID:50648-1756807200-1756810800@foundationforocps.org
SUMMARY:Read2Succeed Volunteer Training
DESCRIPTION:Read2Succeed Volunteer Training\n\n\n\n\n\n\n\n\n\nRead2Succeed Training – Returning and New Volunteers \n\n\n\nOCPS Pine Hills Text Book Center/OCPS Pine Hills Transportation Services (former North Learning Community Office) \n\n\n\nBefore you attend training: \n\n\n\nSubmit ADDitions applicationView Read2Succeed first and second-grade Training Videos \n\n\n\nParking Information: \n\n\n\nGate will open 15 minutes prior to training time. \n\n\n\nTraveling southbound via Pine Hills Road\, watch for the gate opening on your right-hand side\, .3 miles from the intersection of Clarcona Ocoee Road \n\n\n\nTraveling northbound via Pine Hills Road\, watch for the gate opening on your left-hand side\, 2 miles from the intersection of Silver Star Road. \n\n\n\nAmple parking in the lot in front of the building. The training room is the last door on the north end of the building.
URL:https://foundationforocps.org/event/read2succeed-volunteer-training/
LOCATION:5146 North Pine Hills Rd.\, 5146 North Pine Hills Rd.\, Orlando\, Florida\, 32808\, United States
CATEGORIES:Read2Succeed
END:VEVENT
BEGIN:VEVENT
DTSTART;TZID=UTC:20250828T130000
DTEND;TZID=UTC:20250828T140000
DTSTAMP:20260423T205433
CREATED:20250716T165701Z
LAST-MODIFIED:20250716T165705Z
UID:50695-1756386000-1756389600@foundationforocps.org
SUMMARY:Read2Succeed RETURNING Volunteer Training
DESCRIPTION:Read2Succeed RETURNING VOLUNTEERS ONLY Training\n\n\n\n\n\n\n\n\n\nRead2Succeed Training – Returning and New Volunteers \n\n\n\nOCPS Pine Hills Text Book Center/OCPS Pine Hills Transportation Services (former North Learning Community Office) \n\n\n\nBefore you attend training: \n\n\n\nSubmit ADDitions applicationView Read2Succeed first and second-grade Training Videos \n\n\n\nParking Information: \n\n\n\nGate will open 15 minutes prior to training time. \n\n\n\nTraveling southbound via Pine Hills Road\, watch for the gate opening on your right-hand side\, .3 miles from the intersection of Clarcona Ocoee Road \n\n\n\nTraveling northbound via Pine Hills Road\, watch for the gate opening on your left-hand side\, 2 miles from the intersection of Silver Star Road. \n\n\n\nAmple parking in the lot in front of the building. The training room is the last door on the north end of the building.
URL:https://foundationforocps.org/event/read2succeed-returning-volunteer-training/
LOCATION:5146 North Pine Hills Rd.\, 5146 North Pine Hills Rd.\, Orlando\, Florida\, 32808\, United States
CATEGORIES:Read2Succeed
END:VEVENT
BEGIN:VEVENT
DTSTART;TZID=UTC:20250826T100000
DTEND;TZID=UTC:20250826T110000
DTSTAMP:20260423T205433
CREATED:20250716T165817Z
LAST-MODIFIED:20250716T165819Z
UID:50691-1756202400-1756206000@foundationforocps.org
SUMMARY:Read2Succeed RETURNING Volunteer Training
DESCRIPTION:Read2Succeed RETURNING VOLUNTEERS ONLY Training\n\n\n\n\n\n\n\n\n\nRead2Succeed Training – Returning and New Volunteers \n\n\n\nOCPS Pine Hills Text Book Center/OCPS Pine Hills Transportation Services (former North Learning Community Office) \n\n\n\nBefore you attend training: \n\n\n\nSubmit ADDitions applicationView Read2Succeed first and second-grade Training Videos \n\n\n\nParking Information: \n\n\n\nGate will open 15 minutes prior to training time. \n\n\n\nTraveling southbound via Pine Hills Road\, watch for the gate opening on your right-hand side\, .3 miles from the intersection of Clarcona Ocoee Road \n\n\n\nTraveling northbound via Pine Hills Road\, watch for the gate opening on your left-hand side\, 2 miles from the intersection of Silver Star Road. \n\n\n\nAmple parking in the lot in front of the building. The training room is the last door on the north end of the building.
URL:https://foundationforocps.org/event/read2succeed-returning-volunteer-training-2/
LOCATION:5146 North Pine Hills Rd.\, 5146 North Pine Hills Rd.\, Orlando\, Florida\, 32808\, United States
CATEGORIES:Read2Succeed
END:VEVENT
BEGIN:VEVENT
DTSTART;TZID=UTC:20250821T130000
DTEND;TZID=UTC:20250821T140000
DTSTAMP:20260423T205433
CREATED:20250716T165928Z
LAST-MODIFIED:20250716T165931Z
UID:50693-1755781200-1755784800@foundationforocps.org
SUMMARY:Read2Succeed RETURNING Volunteer Training
DESCRIPTION:Read2Succeed RETURNING VOLUNTEERS ONLY Training\n\n\n\n\n\n\n\n\n\nRead2Succeed Training – Returning and New Volunteers \n\n\n\nOCPS Pine Hills Text Book Center/OCPS Pine Hills Transportation Services (former North Learning Community Office) \n\n\n\nBefore you attend training: \n\n\n\nSubmit ADDitions applicationView Read2Succeed first and second-grade Training Videos \n\n\n\nParking Information: \n\n\n\nGate will open 15 minutes prior to training time. \n\n\n\nTraveling southbound via Pine Hills Road\, watch for the gate opening on your right-hand side\, .3 miles from the intersection of Clarcona Ocoee Road \n\n\n\nTraveling northbound via Pine Hills Road\, watch for the gate opening on your left-hand side\, 2 miles from the intersection of Silver Star Road. \n\n\n\nAmple parking in the lot in front of the building. The training room is the last door on the north end of the building.
URL:https://foundationforocps.org/event/read2succeed-returning-volunteer-training-3/
LOCATION:5146 North Pine Hills Rd.\, 5146 North Pine Hills Rd.\, Orlando\, Florida\, 32808\, United States
CATEGORIES:Read2Succeed
END:VEVENT
BEGIN:VEVENT
DTSTART;TZID=UTC:20250819T100000
DTEND;TZID=UTC:20250819T110000
DTSTAMP:20260423T205433
CREATED:20250716T170107Z
LAST-MODIFIED:20250716T170116Z
UID:50689-1755597600-1755601200@foundationforocps.org
SUMMARY:Read2Succeed RETURNING Volunteer Training
DESCRIPTION:Read2Succeed RETURNING VOLUNTEERS ONLY Training\n\n\n\n\n\n\n\n\n\nRead2Succeed Training – Returning and New Volunteers \n\n\n\nOCPS Pine Hills Text Book Center/OCPS Pine Hills Transportation Services (former North Learning Community Office) \n\n\n\nBefore you attend training: \n\n\n\nSubmit ADDitions applicationView Read2Succeed first and second-grade Training Videos \n\n\n\nParking Information: \n\n\n\nGate will open 15 minutes prior to training time. \n\n\n\nTraveling southbound via Pine Hills Road\, watch for the gate opening on your right-hand side\, .3 miles from the intersection of Clarcona Ocoee Road \n\n\n\nTraveling northbound via Pine Hills Road\, watch for the gate opening on your left-hand side\, 2 miles from the intersection of Silver Star Road. \n\n\n\nAmple parking in the lot in front of the building. The training room is the last door on the north end of the building.
URL:https://foundationforocps.org/event/read2succeed-returning-volunteer-training-4/
LOCATION:5146 North Pine Hills Rd.\, 5146 North Pine Hills Rd.\, Orlando\, Florida\, 32808\, United States
CATEGORIES:Read2Succeed
END:VEVENT
BEGIN:VEVENT
DTSTART;TZID=UTC:20250723T090000
DTEND;TZID=UTC:20250723T130000
DTSTAMP:20260423T205433
CREATED:20250702T125733Z
LAST-MODIFIED:20250702T125735Z
UID:50464-1753261200-1753275600@foundationforocps.org
SUMMARY:Community Outreach Schools - Principal Session
DESCRIPTION:Community Outreach Schools – Principal Session\n\n\n\n\n\n\n\n\n\nWe’re thrilled to start the school year with valuable resources to strengthen our schools. \n\n\n\nYour insights at this meeting will play a crucial role in shaping how the committee and the Foundation for OCPS collaborate to support our Community Outreach Schools throughout the year. \n\n\n\nCommittee participation is essential! \n\n\n\n⏰ Presentation Time: 9:00 a.m. – 12:00 p.m. \n\n\n\n⏰ Principal School Supply Shopping Time: 12:00 a.m. – 1:00 p.m. \n\n\n\nThis event is closed to Community Outreach School principals and principal leaders.
URL:https://foundationforocps.org/event/community-outreach-schools-principal-session/
LOCATION:Orange Technical College South\, 2900 W Oak Ridge Rd\, Orlando\, Florida\, 32809\, United States
CATEGORIES:Community Outreach Event
ATTACH;FMTTYPE=image/png:https://foundationforocps.org/wp-content/uploads/2025/07/Community-Outreach-Schools.png
END:VEVENT
BEGIN:VEVENT
DTSTART;TZID=UTC:20250515T113000
DTEND;TZID=UTC:20250515T133000
DTSTAMP:20260423T205433
CREATED:20240626T143306Z
LAST-MODIFIED:20250409T005527Z
UID:45899-1747308600-1747315800@foundationforocps.org
SUMMARY:Math Bee
DESCRIPTION:Join us in cheering on our exceptional OCPS students as they compete in this year’s Math Bee!
URL:https://foundationforocps.org/event/math-bee/
LOCATION:St. Luke’s United Methodist Church\, 4851 S Apopka Vineland Rd\, Orlando\, Florida\, 32819\, United States
CATEGORIES:Community Outreach Event
ATTACH;FMTTYPE=image/png:https://foundationforocps.org/wp-content/uploads/2024/06/Event-Pictures.png
END:VEVENT
BEGIN:VEVENT
DTSTART;TZID=UTC:20250503T140000
DTEND;TZID=UTC:20250503T163000
DTSTAMP:20260423T205433
CREATED:20240708T141113Z
LAST-MODIFIED:20250228T211747Z
UID:45895-1746280800-1746289800@foundationforocps.org
SUMMARY:Top Talent LIVE 2025
DESCRIPTION:Join us for a day where we showcase our talented OCPS students from all different grade levels and celebrate the performing arts! This exciting afternoon includes expert judges\, fan favorite voting and cash awards for the winners. This is an event that you don’t want to miss!
URL:https://foundationforocps.org/event/top-talent-live/
LOCATION:Dr. Phillips Center for the Performing Arts\, 445 S Magnolia Ave\, Orlando\, Florida\, 32801\, United States
CATEGORIES:Fundraising Event
ATTACH;FMTTYPE=image/png:https://foundationforocps.org/wp-content/uploads/2024/07/Event-Featured-Image-2.png
END:VEVENT
BEGIN:VEVENT
DTSTART;TZID=UTC:20250130T100000
DTEND;TZID=UTC:20250130T110000
DTSTAMP:20260423T205433
CREATED:20250109T142803Z
LAST-MODIFIED:20250702T122105Z
UID:48693-1738231200-1738234800@foundationforocps.org
SUMMARY:Read2Succeed Volunteer Training
DESCRIPTION:Read2Succeed Volunteer Training\n\n\n\n\n\n\n\n\n\nRead2Succeed Training – Returning and New Volunteers \n\n\n\nOCPS Pine Hills Text Book Center/OCPS Pine Hills Transportation Services (former North Learning Community Office) \n\n\n\nBefore you attend training: \n\n\n\nSubmit ADDitions applicationView Read2Succeed first and second-grade Training Videos \n\n\n\nParking Information: \n\n\n\nEnter through Gate 1 (north end of the building) off North Pine Hills Road. Park in the parking lot adjacent to the building. Enter through the door marked “Read2Succeed Training Room”
URL:https://foundationforocps.org/event/read2succeed-volunteer-training-7/
LOCATION:5146 North Pine Hills Rd.\, 5146 North Pine Hills Rd.\, Orlando\, Florida\, 32808\, United States
CATEGORIES:Read2Succeed
END:VEVENT
BEGIN:VEVENT
DTSTART;TZID=UTC:20250127T100000
DTEND;TZID=UTC:20250127T110000
DTSTAMP:20260423T205433
CREATED:20250109T142712Z
LAST-MODIFIED:20250109T144957Z
UID:48691-1737972000-1737975600@foundationforocps.org
SUMMARY:Read2Succeed Volunteer Training
DESCRIPTION:Read2Succeed Volunteer Training\n\n\n\n\n\n\n\n\n\nRead2Succeed Training – Returning and New Volunteers \n\n\n\nOCPS Pine Hills Text Book Center/OCPS Pine Hills Transportation Services (former North Learning Community Office) \n\n\n\nBefore you attend training: \n\n\n\nSubmit ADDitions applicationView Read2Succeed first and second-grade Training Videos \n\n\n\nParking Information: \n\n\n\nEnter through Gate 1 (north end of the building) off North Pine Hills Road. Park in the parking lot adjacent to the building. Enter through the door marked “Read2Succeed Training Room”
URL:https://foundationforocps.org/event/read2succeed-volunteer-training-6/
LOCATION:5146 North Pine Hills Rd.\, 5146 North Pine Hills Rd.\, Orlando\, Florida\, 32808\, United States
CATEGORIES:Read2Succeed
END:VEVENT
BEGIN:VEVENT
DTSTART;TZID=UTC:20250123T100000
DTEND;TZID=UTC:20250123T110000
DTSTAMP:20260423T205433
CREATED:20250109T142621Z
LAST-MODIFIED:20250109T145035Z
UID:48689-1737626400-1737630000@foundationforocps.org
SUMMARY:Read2Succeed Volunteer Training
DESCRIPTION:Read2Succeed Volunteer Training\n\n\n\n\n\n\n\n\n\nRead2Succeed Training – Returning and New Volunteers \n\n\n\nOCPS Pine Hills Text Book Center/OCPS Pine Hills Transportation Services (former North Learning Community Office) \n\n\n\nBefore you attend training: \n\n\n\nSubmit ADDitions applicationView Read2Succeed first and second-grade Training Videos \n\n\n\nParking Information: \n\n\n\nEnter through Gate 1 (north end of the building) off North Pine Hills Road. Park in the parking lot adjacent to the building. Enter through the door marked “Read2Succeed Training Room”
URL:https://foundationforocps.org/event/read2succeed-volunteer-training-5/
LOCATION:5146 North Pine Hills Rd.\, 5146 North Pine Hills Rd.\, Orlando\, Florida\, 32808\, United States
CATEGORIES:Read2Succeed
END:VEVENT
BEGIN:VEVENT
DTSTART;TZID=UTC:20250116T100000
DTEND;TZID=UTC:20250116T110000
DTSTAMP:20260423T205433
CREATED:20250109T142100Z
LAST-MODIFIED:20250109T142546Z
UID:48680-1737021600-1737025200@foundationforocps.org
SUMMARY:Read2Succeed Volunteer Training
DESCRIPTION:Read2Succeed Volunteer Training\n\n\n\n\n\n\n\n\n\nRead2Succeed Training – Returning and New Volunteers \n\n\n\nOCPS Pine Hills Text Book Center/OCPS Pine Hills Transportation Services (former North Learning Community Office) \n\n\n\nBefore you attend training: \n\n\n\nSubmit ADDitions applicationView Read2Succeed first and second-grade Training Videos \n\n\n\nParking Information: \n\n\n\nEnter through Gate 1 (north end of the building) off North Pine Hills Road. Park in the parking lot adjacent to the building. Enter through the door marked “Read2Succeed Training Room”
URL:https://foundationforocps.org/event/read2succeed-volunteer-training-3/
LOCATION:5146 North Pine Hills Rd.\, 5146 North Pine Hills Rd.\, Orlando\, Florida\, 32808\, United States
CATEGORIES:Read2Succeed
END:VEVENT
BEGIN:VEVENT
DTSTART;TZID=UTC:20250113T100000
DTEND;TZID=UTC:20250113T110000
DTSTAMP:20260423T205433
CREATED:20250109T142011Z
LAST-MODIFIED:20250109T145216Z
UID:48678-1736762400-1736766000@foundationforocps.org
SUMMARY:Read2Succeed Volunteer Training
DESCRIPTION:Read2Succeed Volunteer Training\n\n\n\n\n\n\n\n\n\nRead2Succeed Training – Returning and New Volunteers \n\n\n\nOCPS Pine Hills Text Book Center/OCPS Pine Hills Transportation Services \n\n\n\n(former North Learning Community Office) \n\n\n\n5146 North Pine Hills Rd. \n\n\n\nOrlando\, FL 32808 \n\n\n\nBefore you attend training: \n\n\n\nSubmit ADDitions applicationView Read2Succeed first and second-grade Training Videos \n\n\n\nParking Information: \n\n\n\nEnter through Gate 1 (north end of the building) off North Pine Hills Road. Park in the parking lot adjacent to the building. Enter through the door marked “Read2Succeed Training Room”
URL:https://foundationforocps.org/event/read2succeed-volunteer-training-2/
LOCATION:5146 North Pine Hills Rd.\, 5146 North Pine Hills Rd.\, Orlando\, Florida\, 32808\, United States
CATEGORIES:Read2Succeed
END:VEVENT
END:VCALENDAR